BEGIN:VCALENDAR
VERSION:2.0
PRODID:hinto.net
X-PUBLISHED-TTL:P1W
BEGIN:VEVENT
UID:hinto.net-event_show-6942102
DTSTART:20260502T200000
SEQUENCE:0
CREATED:20260423T032330
LAST-MODIFIED:20260423T032330
TRANSP:OPAQUE

LOCATION:Manoir de Martigny
SUMMARY:COILGUNS [CH]
CLASS:PUBLIC
DESCRIPTION:
ORGANIZER:
DTSTAMP:20260424T123606
ATTACH:https://www.hinto.ch/de/events/coilguns-[ch]-02-05-2026-2000-manoir-de-martigny-martigny-e2857279-20.html
END:VEVENT
END:VCALENDAR
